BEGIN:VCALENDAR
VERSION:2.0
PRODID:-//Sabre//Sabre VObject 4.5.8//EN
CALSCALE:GREGORIAN
BEGIN:VEVENT
UID:sabre-vobject-ede4b072-6e6e-4a89-aff3-f74fa8731562
DTSTAMP:20260421T160956Z
SUMMARY:EFMP Sensory Reading 
DESCRIPTION:Join us as we read the book &quot\;I am Stronger than Anxiety&q
 uot\; followed by a fun sensory activity\n
X-ALT-DESC:FMTTYPE=text/html:<!DOCTYPE HTML PUBLIC "-//W3C//DTD HTML 3.2//E
 N"><HTML><p>Join us as we read the book &quot\;I am Stronger than Anxiety&
 quot\; followed by a fun sensory activity</p>\n</HTML>
CREATED;TZID=Europe/Oslo:20260223T123303
URL;VALUE=URI:https://stuttgart.armymwr.com/calendar/event
DTSTART;TZID=Europe/Oslo:20241010T173000
DTEND;TZID=Europe/Oslo:20241010T183000
SEQUENCE:0
END:VEVENT
BEGIN:VEVENT
UID:sabre-vobject-76f06541-faba-49d9-a001-8c5f5fb887c9
DTSTAMP:20260421T160956Z
SUMMARY:EFMP Sensory Reading 
DESCRIPTION:Join us as we read the book &quot\;I am Stronger than Anxiety&q
 uot\; followed by a fun sensory activity\n
X-ALT-DESC:FMTTYPE=text/html:<!DOCTYPE HTML PUBLIC "-//W3C//DTD HTML 3.2//E
 N"><HTML><p>Join us as we read the book &quot\;I am Stronger than Anxiety&
 quot\; followed by a fun sensory activity</p>\n</HTML>
CREATED;TZID=Europe/Oslo:20260223T123303
URL;VALUE=URI:https://stuttgart.armymwr.com/calendar/event
DTSTART;TZID=Europe/Oslo:20260122T173000
DTEND;TZID=Europe/Oslo:20260122T183000
SEQUENCE:1
END:VEVENT
BEGIN:VEVENT
UID:sabre-vobject-33d204d1-4b14-4722-82b3-d5558364f29f
DTSTAMP:20260421T160956Z
SUMMARY:EFMP Sensory Reading 
DESCRIPTION:Join us as we read the book &quot\;I am Stronger than Anxiety&q
 uot\; followed by a fun sensory activity\n
X-ALT-DESC:FMTTYPE=text/html:<!DOCTYPE HTML PUBLIC "-//W3C//DTD HTML 3.2//E
 N"><HTML><p>Join us as we read the book &quot\;I am Stronger than Anxiety&
 quot\; followed by a fun sensory activity</p>\n</HTML>
CREATED;TZID=Europe/Oslo:20260223T123303
URL;VALUE=URI:https://stuttgart.armymwr.com/calendar/event
DTSTART;TZID=Europe/Oslo:20260611T173000
DTEND;TZID=Europe/Oslo:20260611T183000
SEQUENCE:2
END:VEVENT
END:VCALENDAR
