BEGIN:VCALENDAR
VERSION:2.0
PRODID:-//Sabre//Sabre VObject 4.5.8//EN
CALSCALE:GREGORIAN
BEGIN:VEVENT
UID:sabre-vobject-8ed892ed-8115-47d3-a38e-b915b9d9d874
DTSTAMP:20260425T115825Z
SUMMARY:Halloween Spook-Tacular at the Galaxy Bowling & Entertainment Cente
 r
DESCRIPTION:The creepiest bowling event you&#39\;ve ever attended!\n
X-ALT-DESC:FMTTYPE=text/html:<!DOCTYPE HTML PUBLIC "-//W3C//DTD HTML 3.2//E
 N"><HTML><p>The creepiest bowling event you&#39\;ve ever attended!</p>\n</
 HTML>
CREATED;TZID=Europe/Oslo:20231031T103328
URL;VALUE=URI:https://stuttgart.armymwr.com/calendar/event
DTSTART;TZID=Europe/Oslo:20231031T170000
DTEND;TZID=Europe/Oslo:20231031T210000
SEQUENCE:0
END:VEVENT
END:VCALENDAR
