BEGIN:VCALENDAR
VERSION:2.0
PRODID:-//Sabre//Sabre VObject 4.5.8//EN
CALSCALE:GREGORIAN
BEGIN:VEVENT
UID:sabre-vobject-5371d6f7-e7ea-4d50-8d80-2bc53cd3d657
DTSTAMP:20260426T023921Z
SUMMARY:Horror Escape Room at the Patch Library
DESCRIPTION:This spine chilling escape room is not for the faint of heart!\
 n
X-ALT-DESC:FMTTYPE=text/html:<!DOCTYPE HTML PUBLIC "-//W3C//DTD HTML 3.2//E
 N"><HTML><p>This spine chilling escape room is not for the faint of heart!
 </p>\n</HTML>
CREATED;TZID=Europe/Oslo:20230925T141117
URL;VALUE=URI:https://stuttgart.armymwr.com/calendar/event
DTSTART;TZID=Europe/Oslo:20231027T110000
DTEND;TZID=Europe/Oslo:20231027T170000
SEQUENCE:0
END:VEVENT
BEGIN:VEVENT
UID:sabre-vobject-3c21ae73-9bbd-42ad-a717-d37ffc1a0fea
DTSTAMP:20260426T023921Z
SUMMARY:Horror Escape Room at the Patch Library
DESCRIPTION:This spine chilling escape room is not for the faint of heart!\
 n
X-ALT-DESC:FMTTYPE=text/html:<!DOCTYPE HTML PUBLIC "-//W3C//DTD HTML 3.2//E
 N"><HTML><p>This spine chilling escape room is not for the faint of heart!
 </p>\n</HTML>
CREATED;TZID=Europe/Oslo:20230925T141117
URL;VALUE=URI:https://stuttgart.armymwr.com/calendar/event
DTSTART;TZID=Europe/Oslo:20231028T100000
DTEND;TZID=Europe/Oslo:20231028T160000
SEQUENCE:1
END:VEVENT
END:VCALENDAR
