BEGIN:VCALENDAR
VERSION:2.0
PRODID:-//Sabre//Sabre VObject 4.5.8//EN
CALSCALE:GREGORIAN
BEGIN:VEVENT
UID:sabre-vobject-049591b2-3d50-4cc0-b109-28261932fbcb
DTSTAMP:20260425T115824Z
SUMMARY:Create to be Free - A Journey of Healing through Art
DESCRIPTION:Heal as you create through simple art exercises.&nbsp\;\n
X-ALT-DESC:FMTTYPE=text/html:<!DOCTYPE HTML PUBLIC "-//W3C//DTD HTML 3.2//E
 N"><HTML><p>Heal as you create through simple art exercises.&nbsp\;</p>\n<
 /HTML>
CREATED;TZID=Europe/Oslo:20231103T090212
URL;VALUE=URI:https://stuttgart.armymwr.com/calendar/event
DTSTART;TZID=Europe/Oslo:20231026T173000
DTEND;TZID=Europe/Oslo:20231026T190000
SEQUENCE:0
END:VEVENT
END:VCALENDAR
