BEGIN:VCALENDAR
VERSION:2.0
PRODID:-//Sabre//Sabre VObject 4.5.8//EN
CALSCALE:GREGORIAN
BEGIN:VEVENT
UID:sabre-vobject-ff32f3e8-2f9a-4a4c-b250-86aed51ccbf8
DTSTAMP:20260423T002332Z
SUMMARY:Sports & Fitness Equipment Re-Sale @ RB Fitness Center
DESCRIPTION:Looking to grow your home gym? Stop by the Sports &amp\; Fitnes
 s Center Equipment Resale!\n
X-ALT-DESC:FMTTYPE=text/html:<!DOCTYPE HTML PUBLIC "-//W3C//DTD HTML 3.2//E
 N"><HTML><p>Looking to grow your home gym? Stop by the Sports &amp\; Fitne
 ss Center Equipment Resale!</p>\n</HTML>
CREATED;TZID=Europe/Oslo:20230815T122604
URL;VALUE=URI:https://stuttgart.armymwr.com/calendar/event
DTSTART;TZID=Europe/Oslo:20230826T090000
DTEND;TZID=Europe/Oslo:20230826T140000
SEQUENCE:0
END:VEVENT
END:VCALENDAR
