BEGIN:VCALENDAR
VERSION:2.0
PRODID:-//Sabre//Sabre VObject 4.5.8//EN
CALSCALE:GREGORIAN
BEGIN:VEVENT
UID:sabre-vobject-476b8108-d40e-4445-9bd8-2af9c24b94ea
DTSTAMP:20260423T092644Z
SUMMARY:Power Lifting Series Stage II
DESCRIPTION:Compete in any of the 3 phases of this Power Lifting Competitio
 n.&nbsp\;\n
X-ALT-DESC:FMTTYPE=text/html:<!DOCTYPE HTML PUBLIC "-//W3C//DTD HTML 3.2//E
 N"><HTML><p>Compete in any of the 3 phases of this Power Lifting Competiti
 on.&nbsp\;</p>\n</HTML>
CREATED;TZID=Europe/Oslo:20230808T135934
URL;VALUE=URI:https://stuttgart.armymwr.com/calendar/event
DTSTART;TZID=Europe/Oslo:20231004T110000
DTEND;TZID=Europe/Oslo:20231006T130000
SEQUENCE:0
END:VEVENT
END:VCALENDAR
