BEGIN:VCALENDAR
VERSION:2.0
PRODID:-//Sabre//Sabre VObject 4.5.8//EN
CALSCALE:GREGORIAN
BEGIN:VEVENT
UID:sabre-vobject-08d465f9-e1c1-4de8-a44a-7ffcc990ad07
DTSTAMP:20260423T045113Z
SUMMARY:Austism Support Group
DESCRIPTION:Learn strategies and positive parenting for children with autis
 m.\n
X-ALT-DESC:FMTTYPE=text/html:<!DOCTYPE HTML PUBLIC "-//W3C//DTD HTML 3.2//E
 N"><HTML><p>Learn strategies and positive parenting for children with auti
 sm.</p>\n</HTML>
CREATED;TZID=Europe/Oslo:20230803T153848
URL;VALUE=URI:https://stuttgart.armymwr.com/calendar/event
DTSTART;TZID=Europe/Oslo:20230823T093000
DTEND;TZID=Europe/Oslo:20230823T103000
SEQUENCE:0
END:VEVENT
END:VCALENDAR
