BEGIN:VCALENDAR
VERSION:2.0
PRODID:-//Sabre//Sabre VObject 4.5.8//EN
CALSCALE:GREGORIAN
BEGIN:VEVENT
UID:sabre-vobject-7b4b09e7-1d59-404f-b096-1f2bcf3ab34d
DTSTAMP:20260426T023924Z
SUMMARY:Fall Bazaar
DESCRIPTION:Some of the finest goods in Europe brought directly to USAG Stu
 ttgart!\n
X-ALT-DESC:FMTTYPE=text/html:<!DOCTYPE HTML PUBLIC "-//W3C//DTD HTML 3.2//E
 N"><HTML><p>Some of the finest goods in Europe brought directly to USAG St
 uttgart!</p>\n</HTML>
CREATED;TZID=Europe/Oslo:20231027T081608
URL;VALUE=URI:https://stuttgart.armymwr.com/calendar/event
DTSTART;TZID=Europe/Oslo:20231027T000000
DTEND;TZID=Europe/Oslo:20231029T235959
SEQUENCE:0
END:VEVENT
END:VCALENDAR
