BEGIN:VCALENDAR
VERSION:2.0
PRODID:-//Sabre//Sabre VObject 4.5.8//EN
CALSCALE:GREGORIAN
BEGIN:VEVENT
UID:sabre-vobject-09167cb7-7f20-4d31-b8b1-b1692cde5da0
DTSTAMP:20260423T092645Z
SUMMARY:Superstars Athletic Competition at Panzer Fitness Center
DESCRIPTION:Compete in this multi-skill competition to be named a SUPERSTAR
 !\n
X-ALT-DESC:FMTTYPE=text/html:<!DOCTYPE HTML PUBLIC "-//W3C//DTD HTML 3.2//E
 N"><HTML><p>Compete in this multi-skill competition to be named a SUPERSTA
 R!</p>\n</HTML>
CREATED;TZID=Europe/Oslo:20230718T160543
URL;VALUE=URI:https://stuttgart.armymwr.com/calendar/event
DTSTART;TZID=Europe/Oslo:20230819T090000
DTEND;TZID=Europe/Oslo:20230819T100000
SEQUENCE:0
END:VEVENT
END:VCALENDAR
