BEGIN:VCALENDAR
VERSION:2.0
PRODID:-//Sabre//Sabre VObject 4.5.8//EN
CALSCALE:GREGORIAN
BEGIN:VEVENT
UID:sabre-vobject-41e455d4-a4fe-4b93-b911-e9cfd901ebfe
DTSTAMP:20260423T092647Z
SUMMARY:Virtual Rowing Competition
DESCRIPTION:Join this rowing competition at Patch and Robinson Fitness Cent
 ers!\n
X-ALT-DESC:FMTTYPE=text/html:<!DOCTYPE HTML PUBLIC "-//W3C//DTD HTML 3.2//E
 N"><HTML><p>Join this rowing competition at Patch and Robinson Fitness Cen
 ters!</p>\n</HTML>
CREATED;TZID=Europe/Oslo:20230718T155234
URL;VALUE=URI:https://stuttgart.armymwr.com/calendar/event
DTSTART;TZID=Europe/Oslo:20230807T050000
DTEND;TZID=Europe/Oslo:20230807T200000
SEQUENCE:0
END:VEVENT
END:VCALENDAR
