BEGIN:VCALENDAR
VERSION:2.0
PRODID:-//Sabre//Sabre VObject 4.5.8//EN
CALSCALE:GREGORIAN
BEGIN:VEVENT
UID:sabre-vobject-b45c7e6a-a041-4dae-b3f9-6daf53c6c519
DTSTAMP:20260423T092646Z
SUMMARY:SOLD OUT - MWR Adventure Tour: Unique Via Ferrata Mürren in Lauter
 brunnen Valley 
DESCRIPTION:This trip is sold out\; however\, MWR Tours has many more trips
  to offer.\n
X-ALT-DESC:FMTTYPE=text/html:<!DOCTYPE HTML PUBLIC "-//W3C//DTD HTML 3.2//E
 N"><HTML><p>This trip is sold out\; however\, MWR Tours has many more trip
 s to offer.</p>\n</HTML>
CREATED;TZID=Europe/Oslo:20230802T124659
URL;VALUE=URI:https://stuttgart.armymwr.com/calendar/event
DTSTART;TZID=Europe/Oslo:20230812T000000
DTEND;TZID=Europe/Oslo:20230812T235959
SEQUENCE:0
END:VEVENT
END:VCALENDAR
