BEGIN:VCALENDAR
VERSION:2.0
PRODID:-//Sabre//Sabre VObject 4.5.8//EN
CALSCALE:GREGORIAN
BEGIN:VEVENT
UID:sabre-vobject-6b32347c-ece5-49b1-9e81-615daa94a640
DTSTAMP:20260423T092648Z
SUMMARY:MWR Tour: Lake Garda - An Italian Summer
DESCRIPTION:Visit this bustling Italian town!\n
X-ALT-DESC:FMTTYPE=text/html:<!DOCTYPE HTML PUBLIC "-//W3C//DTD HTML 3.2//E
 N"><HTML><p>Visit this bustling Italian town!</p>\n</HTML>
CREATED;TZID=Europe/Oslo:20230622T093248
URL;VALUE=URI:https://stuttgart.armymwr.com/calendar/event
DTSTART;TZID=Europe/Oslo:20230819T000000
DTEND;TZID=Europe/Oslo:20230819T235959
SEQUENCE:0
END:VEVENT
END:VCALENDAR
