BEGIN:VCALENDAR
VERSION:2.0
PRODID:-//Sabre//Sabre VObject 4.5.8//EN
CALSCALE:GREGORIAN
BEGIN:VEVENT
UID:sabre-vobject-888bf4c3-2478-4c51-82ed-253f818e7041
DTSTAMP:20260423T113326Z
SUMMARY:MWR Tour: Rheinfall and Zurich City Tour
DESCRIPTION:Need the metropolitan lifestyle? We&#39\;ve got you covered! Ne
 ed nature? Still got you covered!\n
X-ALT-DESC:FMTTYPE=text/html:<!DOCTYPE HTML PUBLIC "-//W3C//DTD HTML 3.2//E
 N"><HTML><p>Need the metropolitan lifestyle? We&#39\;ve got you covered! N
 eed nature? Still got you covered!</p>\n</HTML>
CREATED;TZID=Europe/Oslo:20230502T102333
URL;VALUE=URI:https://stuttgart.armymwr.com/calendar/event
DTSTART;TZID=Europe/Oslo:20230513T000000
DTEND;TZID=Europe/Oslo:20230513T235959
SEQUENCE:0
END:VEVENT
END:VCALENDAR
