BEGIN:VCALENDAR
VERSION:2.0
PRODID:-//Sabre//Sabre VObject 4.5.8//EN
CALSCALE:GREGORIAN
BEGIN:VEVENT
UID:sabre-vobject-e4c5f211-46f0-4383-a60b-faa21fc22736
DTSTAMP:20260424T031219Z
SUMMARY:MWR Tour: Boleslawiec Pottery Shopping & Wroklaw City Tour
DESCRIPTION:Polish pottery and city tour in Poland!\n
X-ALT-DESC:FMTTYPE=text/html:<!DOCTYPE HTML PUBLIC "-//W3C//DTD HTML 3.2//E
 N"><HTML><p>Polish pottery and city tour in Poland!</p>\n</HTML>
CREATED;TZID=Europe/Oslo:20230503T090723
URL;VALUE=URI:https://stuttgart.armymwr.com/calendar/event
DTSTART;TZID=Europe/Oslo:20230520T000000
DTEND;TZID=Europe/Oslo:20230520T235959
SEQUENCE:0
END:VEVENT
END:VCALENDAR
