BEGIN:VCALENDAR
VERSION:2.0
PRODID:-//Sabre//Sabre VObject 4.5.8//EN
CALSCALE:GREGORIAN
BEGIN:VEVENT
UID:sabre-vobject-b117e5bb-b79e-4308-a048-bc74a675989d
DTSTAMP:20260425T115651Z
SUMMARY:Ten Steps to a Federal Job
DESCRIPTION:Learn how to navigate USAjobs!\n
X-ALT-DESC:FMTTYPE=text/html:<!DOCTYPE HTML PUBLIC "-//W3C//DTD HTML 3.2//E
 N"><HTML><p>Learn how to navigate USAjobs!</p>\n</HTML>
CREATED;TZID=Europe/Oslo:20250512T125142
URL;VALUE=URI:https://stuttgart.armymwr.com/calendar/event
DTSTART;TZID=Europe/Oslo:20230208T100000
DTEND;TZID=Europe/Oslo:20230208T113000
SEQUENCE:0
END:VEVENT
BEGIN:VEVENT
UID:sabre-vobject-86913f86-19be-49ea-83a7-853017177bb5
DTSTAMP:20260425T115651Z
SUMMARY:Ten Steps to a Federal Job
DESCRIPTION:Learn how to navigate USAjobs!\n
X-ALT-DESC:FMTTYPE=text/html:<!DOCTYPE HTML PUBLIC "-//W3C//DTD HTML 3.2//E
 N"><HTML><p>Learn how to navigate USAjobs!</p>\n</HTML>
CREATED;TZID=Europe/Oslo:20250512T125142
URL;VALUE=URI:https://stuttgart.armymwr.com/calendar/event
DTSTART;TZID=Europe/Oslo:20230215T140000
DTEND;TZID=Europe/Oslo:20230215T153000
SEQUENCE:1
END:VEVENT
BEGIN:VEVENT
UID:sabre-vobject-6cc067e7-3764-4251-ac9f-4874d9a782db
DTSTAMP:20260425T115651Z
SUMMARY:Ten Steps to a Federal Job
DESCRIPTION:Learn how to navigate USAjobs!\n
X-ALT-DESC:FMTTYPE=text/html:<!DOCTYPE HTML PUBLIC "-//W3C//DTD HTML 3.2//E
 N"><HTML><p>Learn how to navigate USAjobs!</p>\n</HTML>
CREATED;TZID=Europe/Oslo:20250512T125142
URL;VALUE=URI:https://stuttgart.armymwr.com/calendar/event
DTSTART;TZID=Europe/Oslo:20230315T140000
DTEND;TZID=Europe/Oslo:20230315T153000
SEQUENCE:2
END:VEVENT
BEGIN:VEVENT
UID:sabre-vobject-f49753df-752e-41f4-96e2-38e1fb418182
DTSTAMP:20260425T115651Z
SUMMARY:Ten Steps to a Federal Job
DESCRIPTION:Learn how to navigate USAjobs!\n
X-ALT-DESC:FMTTYPE=text/html:<!DOCTYPE HTML PUBLIC "-//W3C//DTD HTML 3.2//E
 N"><HTML><p>Learn how to navigate USAjobs!</p>\n</HTML>
CREATED;TZID=Europe/Oslo:20250512T125142
URL;VALUE=URI:https://stuttgart.armymwr.com/calendar/event
DTSTART;TZID=Europe/Oslo:20230322T100000
DTEND;TZID=Europe/Oslo:20230322T113000
SEQUENCE:3
END:VEVENT
BEGIN:VEVENT
UID:sabre-vobject-2174a32d-4b03-45b3-b15b-c7f313896b50
DTSTAMP:20260425T115651Z
SUMMARY:Ten Steps to a Federal Job
DESCRIPTION:Learn how to navigate USAjobs!\n
X-ALT-DESC:FMTTYPE=text/html:<!DOCTYPE HTML PUBLIC "-//W3C//DTD HTML 3.2//E
 N"><HTML><p>Learn how to navigate USAjobs!</p>\n</HTML>
CREATED;TZID=Europe/Oslo:20250512T125142
URL;VALUE=URI:https://stuttgart.armymwr.com/calendar/event
DTSTART;TZID=Europe/Oslo:20230405T100000
DTEND;TZID=Europe/Oslo:20230405T113000
SEQUENCE:4
END:VEVENT
BEGIN:VEVENT
UID:sabre-vobject-bbe3f35a-89a2-4d00-b869-3be106f385cb
DTSTAMP:20260425T115651Z
SUMMARY:Ten Steps to a Federal Job
DESCRIPTION:Learn how to navigate USAjobs!\n
X-ALT-DESC:FMTTYPE=text/html:<!DOCTYPE HTML PUBLIC "-//W3C//DTD HTML 3.2//E
 N"><HTML><p>Learn how to navigate USAjobs!</p>\n</HTML>
CREATED;TZID=Europe/Oslo:20250512T125142
URL;VALUE=URI:https://stuttgart.armymwr.com/calendar/event
DTSTART;TZID=Europe/Oslo:20230412T100000
DTEND;TZID=Europe/Oslo:20230412T113000
SEQUENCE:5
END:VEVENT
BEGIN:VEVENT
UID:sabre-vobject-6be99b7c-f05d-4531-92de-54955b2e9cbc
DTSTAMP:20260425T115651Z
SUMMARY:Ten Steps to a Federal Job
DESCRIPTION:Learn how to navigate USAjobs!\n
X-ALT-DESC:FMTTYPE=text/html:<!DOCTYPE HTML PUBLIC "-//W3C//DTD HTML 3.2//E
 N"><HTML><p>Learn how to navigate USAjobs!</p>\n</HTML>
CREATED;TZID=Europe/Oslo:20250512T125142
URL;VALUE=URI:https://stuttgart.armymwr.com/calendar/event
DTSTART;TZID=Europe/Oslo:20230510T140000
DTEND;TZID=Europe/Oslo:20230510T153000
SEQUENCE:6
END:VEVENT
BEGIN:VEVENT
UID:sabre-vobject-c8137936-7c5e-4e29-8f50-89f8be974901
DTSTAMP:20260425T115651Z
SUMMARY:Ten Steps to a Federal Job
DESCRIPTION:Learn how to navigate USAjobs!\n
X-ALT-DESC:FMTTYPE=text/html:<!DOCTYPE HTML PUBLIC "-//W3C//DTD HTML 3.2//E
 N"><HTML><p>Learn how to navigate USAjobs!</p>\n</HTML>
CREATED;TZID=Europe/Oslo:20250512T125142
URL;VALUE=URI:https://stuttgart.armymwr.com/calendar/event
DTSTART;TZID=Europe/Oslo:20230607T100000
DTEND;TZID=Europe/Oslo:20230607T113000
SEQUENCE:7
END:VEVENT
BEGIN:VEVENT
UID:sabre-vobject-87181b30-d3c3-45f7-8260-bd42b1fa0970
DTSTAMP:20260425T115651Z
SUMMARY:Ten Steps to a Federal Job
DESCRIPTION:Learn how to navigate USAjobs!\n
X-ALT-DESC:FMTTYPE=text/html:<!DOCTYPE HTML PUBLIC "-//W3C//DTD HTML 3.2//E
 N"><HTML><p>Learn how to navigate USAjobs!</p>\n</HTML>
CREATED;TZID=Europe/Oslo:20250512T125142
URL;VALUE=URI:https://stuttgart.armymwr.com/calendar/event
DTSTART;TZID=Europe/Oslo:20230614T140000
DTEND;TZID=Europe/Oslo:20230614T033000
SEQUENCE:8
END:VEVENT
BEGIN:VEVENT
UID:sabre-vobject-d3637b78-3f97-4805-b0c0-589a5e31789e
DTSTAMP:20260425T115651Z
SUMMARY:Ten Steps to a Federal Job
DESCRIPTION:Learn how to navigate USAjobs!\n
X-ALT-DESC:FMTTYPE=text/html:<!DOCTYPE HTML PUBLIC "-//W3C//DTD HTML 3.2//E
 N"><HTML><p>Learn how to navigate USAjobs!</p>\n</HTML>
CREATED;TZID=Europe/Oslo:20250512T125142
URL;VALUE=URI:https://stuttgart.armymwr.com/calendar/event
DTSTART;TZID=Europe/Oslo:20230719T100000
DTEND;TZID=Europe/Oslo:20230719T113000
SEQUENCE:9
END:VEVENT
BEGIN:VEVENT
UID:sabre-vobject-9c0be2ed-eca4-47f5-b53b-01c66bc726a8
DTSTAMP:20260425T115651Z
SUMMARY:Ten Steps to a Federal Job
DESCRIPTION:Learn how to navigate USAjobs!\n
X-ALT-DESC:FMTTYPE=text/html:<!DOCTYPE HTML PUBLIC "-//W3C//DTD HTML 3.2//E
 N"><HTML><p>Learn how to navigate USAjobs!</p>\n</HTML>
CREATED;TZID=Europe/Oslo:20250512T125142
URL;VALUE=URI:https://stuttgart.armymwr.com/calendar/event
DTSTART;TZID=Europe/Oslo:20230816T100000
DTEND;TZID=Europe/Oslo:20230816T113000
SEQUENCE:10
END:VEVENT
BEGIN:VEVENT
UID:sabre-vobject-1e79b0f3-ee86-4d26-bc81-3d5597f8546e
DTSTAMP:20260425T115651Z
SUMMARY:Ten Steps to a Federal Job
DESCRIPTION:Learn how to navigate USAjobs!\n
X-ALT-DESC:FMTTYPE=text/html:<!DOCTYPE HTML PUBLIC "-//W3C//DTD HTML 3.2//E
 N"><HTML><p>Learn how to navigate USAjobs!</p>\n</HTML>
CREATED;TZID=Europe/Oslo:20250512T125142
URL;VALUE=URI:https://stuttgart.armymwr.com/calendar/event
DTSTART;TZID=Europe/Oslo:20230906T100000
DTEND;TZID=Europe/Oslo:20230906T113000
SEQUENCE:11
END:VEVENT
BEGIN:VEVENT
UID:sabre-vobject-909f11fd-6df8-4f9d-bf8d-39d6cb3024ff
DTSTAMP:20260425T115651Z
SUMMARY:Ten Steps to a Federal Job
DESCRIPTION:Learn how to navigate USAjobs!\n
X-ALT-DESC:FMTTYPE=text/html:<!DOCTYPE HTML PUBLIC "-//W3C//DTD HTML 3.2//E
 N"><HTML><p>Learn how to navigate USAjobs!</p>\n</HTML>
CREATED;TZID=Europe/Oslo:20250512T125142
URL;VALUE=URI:https://stuttgart.armymwr.com/calendar/event
DTSTART;TZID=Europe/Oslo:20231108T100000
DTEND;TZID=Europe/Oslo:20231108T113000
SEQUENCE:12
END:VEVENT
BEGIN:VEVENT
UID:sabre-vobject-0fa98a94-2157-45f2-a2b7-33396616c887
DTSTAMP:20260425T115651Z
SUMMARY:Ten Steps to a Federal Job
DESCRIPTION:Learn how to navigate USAjobs!\n
X-ALT-DESC:FMTTYPE=text/html:<!DOCTYPE HTML PUBLIC "-//W3C//DTD HTML 3.2//E
 N"><HTML><p>Learn how to navigate USAjobs!</p>\n</HTML>
CREATED;TZID=Europe/Oslo:20250512T125142
URL;VALUE=URI:https://stuttgart.armymwr.com/calendar/event
DTSTART;TZID=Europe/Oslo:20231206T100000
DTEND;TZID=Europe/Oslo:20231206T113000
SEQUENCE:13
END:VEVENT
BEGIN:VEVENT
UID:sabre-vobject-d3b643a8-e28d-4794-b592-678b8caa8977
DTSTAMP:20260425T115651Z
SUMMARY:Ten Steps to a Federal Job
DESCRIPTION:Learn how to navigate USAjobs!\n
X-ALT-DESC:FMTTYPE=text/html:<!DOCTYPE HTML PUBLIC "-//W3C//DTD HTML 3.2//E
 N"><HTML><p>Learn how to navigate USAjobs!</p>\n</HTML>
CREATED;TZID=Europe/Oslo:20250512T125142
URL;VALUE=URI:https://stuttgart.armymwr.com/calendar/event
DTSTART;TZID=Europe/Oslo:20231213T100000
DTEND;TZID=Europe/Oslo:20231213T113000
SEQUENCE:14
END:VEVENT
BEGIN:VEVENT
UID:sabre-vobject-04c6b248-036c-4ac5-86a1-e98850c623cd
DTSTAMP:20260425T115651Z
SUMMARY:Ten Steps to a Federal Job
DESCRIPTION:Learn how to navigate USAjobs!\n
X-ALT-DESC:FMTTYPE=text/html:<!DOCTYPE HTML PUBLIC "-//W3C//DTD HTML 3.2//E
 N"><HTML><p>Learn how to navigate USAjobs!</p>\n</HTML>
CREATED;TZID=Europe/Oslo:20250512T125142
URL;VALUE=URI:https://stuttgart.armymwr.com/calendar/event
DTSTART;TZID=Europe/Oslo:20240110T100000
DTEND;TZID=Europe/Oslo:20240110T113000
SEQUENCE:15
END:VEVENT
BEGIN:VEVENT
UID:sabre-vobject-55c8c7bf-5ec7-4dba-b0a2-bb67d3b11fa2
DTSTAMP:20260425T115651Z
SUMMARY:Ten Steps to a Federal Job
DESCRIPTION:Learn how to navigate USAjobs!\n
X-ALT-DESC:FMTTYPE=text/html:<!DOCTYPE HTML PUBLIC "-//W3C//DTD HTML 3.2//E
 N"><HTML><p>Learn how to navigate USAjobs!</p>\n</HTML>
CREATED;TZID=Europe/Oslo:20250512T125142
URL;VALUE=URI:https://stuttgart.armymwr.com/calendar/event
DTSTART;TZID=Europe/Oslo:20240207T100000
DTEND;TZID=Europe/Oslo:20240207T113000
SEQUENCE:16
END:VEVENT
BEGIN:VEVENT
UID:sabre-vobject-bf1dcca4-b6b2-4b38-a014-96af6d7cd8a0
DTSTAMP:20260425T115651Z
SUMMARY:Ten Steps to a Federal Job
DESCRIPTION:Learn how to navigate USAjobs!\n
X-ALT-DESC:FMTTYPE=text/html:<!DOCTYPE HTML PUBLIC "-//W3C//DTD HTML 3.2//E
 N"><HTML><p>Learn how to navigate USAjobs!</p>\n</HTML>
CREATED;TZID=Europe/Oslo:20250512T125142
URL;VALUE=URI:https://stuttgart.armymwr.com/calendar/event
DTSTART;TZID=Europe/Oslo:20240306T100000
DTEND;TZID=Europe/Oslo:20240306T113000
SEQUENCE:17
END:VEVENT
BEGIN:VEVENT
UID:sabre-vobject-8843a719-27b9-40ef-a897-399161c0512d
DTSTAMP:20260425T115651Z
SUMMARY:Ten Steps to a Federal Job
DESCRIPTION:Learn how to navigate USAjobs!\n
X-ALT-DESC:FMTTYPE=text/html:<!DOCTYPE HTML PUBLIC "-//W3C//DTD HTML 3.2//E
 N"><HTML><p>Learn how to navigate USAjobs!</p>\n</HTML>
CREATED;TZID=Europe/Oslo:20250512T125142
URL;VALUE=URI:https://stuttgart.armymwr.com/calendar/event
DTSTART;TZID=Europe/Oslo:20240410T100000
DTEND;TZID=Europe/Oslo:20240410T113000
SEQUENCE:18
END:VEVENT
BEGIN:VEVENT
UID:sabre-vobject-5144329e-81fd-4e51-8f43-c8e1413ef32e
DTSTAMP:20260425T115651Z
SUMMARY:Ten Steps to a Federal Job
DESCRIPTION:Learn how to navigate USAjobs!\n
X-ALT-DESC:FMTTYPE=text/html:<!DOCTYPE HTML PUBLIC "-//W3C//DTD HTML 3.2//E
 N"><HTML><p>Learn how to navigate USAjobs!</p>\n</HTML>
CREATED;TZID=Europe/Oslo:20250512T125142
URL;VALUE=URI:https://stuttgart.armymwr.com/calendar/event
DTSTART;TZID=Europe/Oslo:20240515T130000
DTEND;TZID=Europe/Oslo:20240515T143000
SEQUENCE:19
END:VEVENT
BEGIN:VEVENT
UID:sabre-vobject-65ffb53f-28ca-4ba2-970e-87f69147a76b
DTSTAMP:20260425T115651Z
SUMMARY:Ten Steps to a Federal Job
DESCRIPTION:Learn how to navigate USAjobs!\n
X-ALT-DESC:FMTTYPE=text/html:<!DOCTYPE HTML PUBLIC "-//W3C//DTD HTML 3.2//E
 N"><HTML><p>Learn how to navigate USAjobs!</p>\n</HTML>
CREATED;TZID=Europe/Oslo:20250512T125142
URL;VALUE=URI:https://stuttgart.armymwr.com/calendar/event
DTSTART;TZID=Europe/Oslo:20240605T100000
DTEND;TZID=Europe/Oslo:20240605T113000
SEQUENCE:20
END:VEVENT
BEGIN:VEVENT
UID:sabre-vobject-240cf003-46e4-4a9e-b73a-f2aa95581478
DTSTAMP:20260425T115651Z
SUMMARY:Ten Steps to a Federal Job
DESCRIPTION:Learn how to navigate USAjobs!\n
X-ALT-DESC:FMTTYPE=text/html:<!DOCTYPE HTML PUBLIC "-//W3C//DTD HTML 3.2//E
 N"><HTML><p>Learn how to navigate USAjobs!</p>\n</HTML>
CREATED;TZID=Europe/Oslo:20250512T125142
URL;VALUE=URI:https://stuttgart.armymwr.com/calendar/event
DTSTART;TZID=Europe/Oslo:20240807T090000
DTEND;TZID=Europe/Oslo:20240807T110000
SEQUENCE:21
END:VEVENT
BEGIN:VEVENT
UID:sabre-vobject-25c708f0-94d9-4ebe-8655-59ef4643bfbd
DTSTAMP:20260425T115651Z
SUMMARY:Ten Steps to a Federal Job
DESCRIPTION:Learn how to navigate USAjobs!\n
X-ALT-DESC:FMTTYPE=text/html:<!DOCTYPE HTML PUBLIC "-//W3C//DTD HTML 3.2//E
 N"><HTML><p>Learn how to navigate USAjobs!</p>\n</HTML>
CREATED;TZID=Europe/Oslo:20250512T125142
URL;VALUE=URI:https://stuttgart.armymwr.com/calendar/event
DTSTART;TZID=Europe/Oslo:20240911T100000
DTEND;TZID=Europe/Oslo:20240911T113000
SEQUENCE:22
END:VEVENT
BEGIN:VEVENT
UID:sabre-vobject-dbaaa96b-fae8-4c7c-9b08-b559376e6387
DTSTAMP:20260425T115651Z
SUMMARY:Ten Steps to a Federal Job
DESCRIPTION:Learn how to navigate USAjobs!\n
X-ALT-DESC:FMTTYPE=text/html:<!DOCTYPE HTML PUBLIC "-//W3C//DTD HTML 3.2//E
 N"><HTML><p>Learn how to navigate USAjobs!</p>\n</HTML>
CREATED;TZID=Europe/Oslo:20250512T125142
URL;VALUE=URI:https://stuttgart.armymwr.com/calendar/event
DTSTART;TZID=Europe/Oslo:20241009T100000
DTEND;TZID=Europe/Oslo:20241009T113000
SEQUENCE:23
END:VEVENT
BEGIN:VEVENT
UID:sabre-vobject-4a43955e-ea46-42e7-b7a0-4810de5ec6e2
DTSTAMP:20260425T115651Z
SUMMARY:Ten Steps to a Federal Job
DESCRIPTION:Learn how to navigate USAjobs!\n
X-ALT-DESC:FMTTYPE=text/html:<!DOCTYPE HTML PUBLIC "-//W3C//DTD HTML 3.2//E
 N"><HTML><p>Learn how to navigate USAjobs!</p>\n</HTML>
CREATED;TZID=Europe/Oslo:20250512T125142
URL;VALUE=URI:https://stuttgart.armymwr.com/calendar/event
DTSTART;TZID=Europe/Oslo:20241122T100000
DTEND;TZID=Europe/Oslo:20241122T113000
SEQUENCE:24
END:VEVENT
BEGIN:VEVENT
UID:sabre-vobject-88f79746-bbbf-4a3c-94e4-2901457f8815
DTSTAMP:20260425T115651Z
SUMMARY:Ten Steps to a Federal Job
DESCRIPTION:Learn how to navigate USAjobs!\n
X-ALT-DESC:FMTTYPE=text/html:<!DOCTYPE HTML PUBLIC "-//W3C//DTD HTML 3.2//E
 N"><HTML><p>Learn how to navigate USAjobs!</p>\n</HTML>
CREATED;TZID=Europe/Oslo:20250512T125142
URL;VALUE=URI:https://stuttgart.armymwr.com/calendar/event
DTSTART;TZID=Europe/Oslo:20241204T100000
DTEND;TZID=Europe/Oslo:20241204T113000
SEQUENCE:25
END:VEVENT
BEGIN:VEVENT
UID:sabre-vobject-27a27c48-03de-4065-bfd7-b9bc3af2534c
DTSTAMP:20260425T115651Z
SUMMARY:Ten Steps to a Federal Job
DESCRIPTION:Learn how to navigate USAjobs!\n
X-ALT-DESC:FMTTYPE=text/html:<!DOCTYPE HTML PUBLIC "-//W3C//DTD HTML 3.2//E
 N"><HTML><p>Learn how to navigate USAjobs!</p>\n</HTML>
CREATED;TZID=Europe/Oslo:20250512T125142
URL;VALUE=URI:https://stuttgart.armymwr.com/calendar/event
DTSTART;TZID=Europe/Oslo:20241205T100000
DTEND;TZID=Europe/Oslo:20241205T113000
SEQUENCE:26
END:VEVENT
BEGIN:VEVENT
UID:sabre-vobject-10fd9571-3593-44c1-aa26-dce8d316cde1
DTSTAMP:20260425T115651Z
SUMMARY:Ten Steps to a Federal Job
DESCRIPTION:Learn how to navigate USAjobs!\n
X-ALT-DESC:FMTTYPE=text/html:<!DOCTYPE HTML PUBLIC "-//W3C//DTD HTML 3.2//E
 N"><HTML><p>Learn how to navigate USAjobs!</p>\n</HTML>
CREATED;TZID=Europe/Oslo:20250512T125142
URL;VALUE=URI:https://stuttgart.armymwr.com/calendar/event
DTSTART;TZID=Europe/Oslo:20250109T100000
DTEND;TZID=Europe/Oslo:20250109T113000
SEQUENCE:27
END:VEVENT
BEGIN:VEVENT
UID:sabre-vobject-5c978ce6-f46e-4d08-8a00-7d8029e334ad
DTSTAMP:20260425T115651Z
SUMMARY:Ten Steps to a Federal Job
DESCRIPTION:Learn how to navigate USAjobs!\n
X-ALT-DESC:FMTTYPE=text/html:<!DOCTYPE HTML PUBLIC "-//W3C//DTD HTML 3.2//E
 N"><HTML><p>Learn how to navigate USAjobs!</p>\n</HTML>
CREATED;TZID=Europe/Oslo:20250512T125142
URL;VALUE=URI:https://stuttgart.armymwr.com/calendar/event
DTSTART;TZID=Europe/Oslo:20250115T100000
DTEND;TZID=Europe/Oslo:20250115T113000
SEQUENCE:28
END:VEVENT
BEGIN:VEVENT
UID:sabre-vobject-1e306f63-c385-425a-b372-fbf7198dfa86
DTSTAMP:20260425T115651Z
SUMMARY:Ten Steps to a Federal Job
DESCRIPTION:Learn how to navigate USAjobs!\n
X-ALT-DESC:FMTTYPE=text/html:<!DOCTYPE HTML PUBLIC "-//W3C//DTD HTML 3.2//E
 N"><HTML><p>Learn how to navigate USAjobs!</p>\n</HTML>
CREATED;TZID=Europe/Oslo:20250512T125142
URL;VALUE=URI:https://stuttgart.armymwr.com/calendar/event
DTSTART;TZID=Europe/Oslo:20250122T100000
DTEND;TZID=Europe/Oslo:20250122T113000
SEQUENCE:29
END:VEVENT
BEGIN:VEVENT
UID:sabre-vobject-b177b614-7990-4c82-958a-7b31316e6338
DTSTAMP:20260425T115651Z
SUMMARY:Ten Steps to a Federal Job
DESCRIPTION:Learn how to navigate USAjobs!\n
X-ALT-DESC:FMTTYPE=text/html:<!DOCTYPE HTML PUBLIC "-//W3C//DTD HTML 3.2//E
 N"><HTML><p>Learn how to navigate USAjobs!</p>\n</HTML>
CREATED;TZID=Europe/Oslo:20250512T125142
URL;VALUE=URI:https://stuttgart.armymwr.com/calendar/event
DTSTART;TZID=Europe/Oslo:20250212T100000
DTEND;TZID=Europe/Oslo:20250212T113000
SEQUENCE:30
END:VEVENT
BEGIN:VEVENT
UID:sabre-vobject-0cd8c568-8e85-4d71-936a-93649a67bef5
DTSTAMP:20260425T115651Z
SUMMARY:Ten Steps to a Federal Job
DESCRIPTION:Learn how to navigate USAjobs!\n
X-ALT-DESC:FMTTYPE=text/html:<!DOCTYPE HTML PUBLIC "-//W3C//DTD HTML 3.2//E
 N"><HTML><p>Learn how to navigate USAjobs!</p>\n</HTML>
CREATED;TZID=Europe/Oslo:20250512T125142
URL;VALUE=URI:https://stuttgart.armymwr.com/calendar/event
DTSTART;TZID=Europe/Oslo:20250219T100000
DTEND;TZID=Europe/Oslo:20250219T113000
SEQUENCE:31
END:VEVENT
BEGIN:VEVENT
UID:sabre-vobject-90bbdb30-2acc-4b82-b48a-de16f5d406d2
DTSTAMP:20260425T115651Z
SUMMARY:Ten Steps to a Federal Job
DESCRIPTION:Learn how to navigate USAjobs!\n
X-ALT-DESC:FMTTYPE=text/html:<!DOCTYPE HTML PUBLIC "-//W3C//DTD HTML 3.2//E
 N"><HTML><p>Learn how to navigate USAjobs!</p>\n</HTML>
CREATED;TZID=Europe/Oslo:20250512T125142
URL;VALUE=URI:https://stuttgart.armymwr.com/calendar/event
DTSTART;TZID=Europe/Oslo:20250312T090000
DTEND;TZID=Europe/Oslo:20250312T110000
SEQUENCE:32
END:VEVENT
BEGIN:VEVENT
UID:sabre-vobject-914fc792-5a03-421f-8521-a608749c40d0
DTSTAMP:20260425T115651Z
SUMMARY:Ten Steps to a Federal Job
DESCRIPTION:Learn how to navigate USAjobs!\n
X-ALT-DESC:FMTTYPE=text/html:<!DOCTYPE HTML PUBLIC "-//W3C//DTD HTML 3.2//E
 N"><HTML><p>Learn how to navigate USAjobs!</p>\n</HTML>
CREATED;TZID=Europe/Oslo:20250512T125142
URL;VALUE=URI:https://stuttgart.armymwr.com/calendar/event
DTSTART;TZID=Europe/Oslo:20250319T100000
DTEND;TZID=Europe/Oslo:20250319T113000
SEQUENCE:33
END:VEVENT
BEGIN:VEVENT
UID:sabre-vobject-c736c517-ef33-4f4e-a837-f5c2cc3984df
DTSTAMP:20260425T115651Z
SUMMARY:Ten Steps to a Federal Job
DESCRIPTION:Learn how to navigate USAjobs!\n
X-ALT-DESC:FMTTYPE=text/html:<!DOCTYPE HTML PUBLIC "-//W3C//DTD HTML 3.2//E
 N"><HTML><p>Learn how to navigate USAjobs!</p>\n</HTML>
CREATED;TZID=Europe/Oslo:20250512T125142
URL;VALUE=URI:https://stuttgart.armymwr.com/calendar/event
DTSTART;TZID=Europe/Oslo:20250416T100000
DTEND;TZID=Europe/Oslo:20250416T113000
SEQUENCE:34
END:VEVENT
BEGIN:VEVENT
UID:sabre-vobject-50cbe2c0-7aa7-4dd7-94bf-22918b71ec11
DTSTAMP:20260425T115651Z
SUMMARY:Ten Steps to a Federal Job
DESCRIPTION:Learn how to navigate USAjobs!\n
X-ALT-DESC:FMTTYPE=text/html:<!DOCTYPE HTML PUBLIC "-//W3C//DTD HTML 3.2//E
 N"><HTML><p>Learn how to navigate USAjobs!</p>\n</HTML>
CREATED;TZID=Europe/Oslo:20250512T125142
URL;VALUE=URI:https://stuttgart.armymwr.com/calendar/event
DTSTART;TZID=Europe/Oslo:20250423T113000
DTEND;TZID=Europe/Oslo:20250423T130000
SEQUENCE:35
END:VEVENT
BEGIN:VEVENT
UID:sabre-vobject-67a1e400-10a8-4644-b3c7-d4fcbf1c568e
DTSTAMP:20260425T115651Z
SUMMARY:Ten Steps to a Federal Job
DESCRIPTION:Learn how to navigate USAjobs!\n
X-ALT-DESC:FMTTYPE=text/html:<!DOCTYPE HTML PUBLIC "-//W3C//DTD HTML 3.2//E
 N"><HTML><p>Learn how to navigate USAjobs!</p>\n</HTML>
CREATED;TZID=Europe/Oslo:20250512T125142
URL;VALUE=URI:https://stuttgart.armymwr.com/calendar/event
DTSTART;TZID=Europe/Oslo:20250513T100000
DTEND;TZID=Europe/Oslo:20250513T123000
SEQUENCE:36
END:VEVENT
BEGIN:VEVENT
UID:sabre-vobject-1ea19492-f85f-44de-807f-f7b65955bda9
DTSTAMP:20260425T115651Z
SUMMARY:Ten Steps to a Federal Job
DESCRIPTION:Learn how to navigate USAjobs!\n
X-ALT-DESC:FMTTYPE=text/html:<!DOCTYPE HTML PUBLIC "-//W3C//DTD HTML 3.2//E
 N"><HTML><p>Learn how to navigate USAjobs!</p>\n</HTML>
CREATED;TZID=Europe/Oslo:20250512T125142
URL;VALUE=URI:https://stuttgart.armymwr.com/calendar/event
DTSTART;TZID=Europe/Oslo:20250520T103000
DTEND;TZID=Europe/Oslo:20250520T123000
SEQUENCE:37
END:VEVENT
BEGIN:VEVENT
UID:sabre-vobject-90adbd43-6188-41ca-929e-0360dacfceb6
DTSTAMP:20260425T115651Z
SUMMARY:Ten Steps to a Federal Job
DESCRIPTION:Learn how to navigate USAjobs!\n
X-ALT-DESC:FMTTYPE=text/html:<!DOCTYPE HTML PUBLIC "-//W3C//DTD HTML 3.2//E
 N"><HTML><p>Learn how to navigate USAjobs!</p>\n</HTML>
CREATED;TZID=Europe/Oslo:20250512T125142
URL;VALUE=URI:https://stuttgart.armymwr.com/calendar/event
DTSTART;TZID=Europe/Oslo:20250611T103000
DTEND;TZID=Europe/Oslo:20250611T123000
SEQUENCE:38
END:VEVENT
BEGIN:VEVENT
UID:sabre-vobject-f0409f79-47fa-4f31-8623-f93b04d7a604
DTSTAMP:20260425T115651Z
SUMMARY:Ten Steps to a Federal Job
DESCRIPTION:Learn how to navigate USAjobs!\n
X-ALT-DESC:FMTTYPE=text/html:<!DOCTYPE HTML PUBLIC "-//W3C//DTD HTML 3.2//E
 N"><HTML><p>Learn how to navigate USAjobs!</p>\n</HTML>
CREATED;TZID=Europe/Oslo:20250512T125142
URL;VALUE=URI:https://stuttgart.armymwr.com/calendar/event
DTSTART;TZID=Europe/Oslo:20250618T103000
DTEND;TZID=Europe/Oslo:20250618T123000
SEQUENCE:39
END:VEVENT
END:VCALENDAR
