BEGIN:VCALENDAR
VERSION:2.0
PRODID:-//Sabre//Sabre VObject 4.5.8//EN
CALSCALE:GREGORIAN
BEGIN:VEVENT
UID:sabre-vobject-0bf12735-93ec-4c1a-842d-5e4c8e215bbc
DTSTAMP:20260425T010335Z
SUMMARY:Paris\, France
DESCRIPTION:Visit the City of Light with MWR Tours.\n
X-ALT-DESC:FMTTYPE=text/html:<!DOCTYPE HTML PUBLIC "-//W3C//DTD HTML 3.2//E
 N"><HTML><p>Visit the City of Light with MWR Tours.</p>\n</HTML>
CREATED;TZID=Europe/Oslo:20210714T131537
URL;VALUE=URI:https://stuttgart.armymwr.com/calendar/event
DTSTART;TZID=Europe/Oslo:20210821T000000
DTEND;TZID=Europe/Oslo:20210821T235959
SEQUENCE:0
END:VEVENT
END:VCALENDAR
