BEGIN:VCALENDAR
VERSION:2.0
PRODID:-//Sabre//Sabre VObject 4.5.8//EN
CALSCALE:GREGORIAN
BEGIN:VEVENT
UID:sabre-vobject-0cefbb30-478d-42d8-b99c-325b58a23b6a
DTSTAMP:20260420T033450Z
SUMMARY:German Immersion
DESCRIPTION:Learn the German language and culture.\n
X-ALT-DESC:FMTTYPE=text/html:<!DOCTYPE HTML PUBLIC "-//W3C//DTD HTML 3.2//E
 N"><HTML><p>Learn the German language and culture.</p>\n</HTML>
CREATED;TZID=Europe/Oslo:20240917T090625
URL;VALUE=URI:https://stuttgart.armymwr.com/calendar/event
DTSTART;TZID=Europe/Oslo:20230111T173000
DTEND;TZID=Europe/Oslo:20230111T190000
SEQUENCE:0
END:VEVENT
END:VCALENDAR
