BEGIN:VCALENDAR
VERSION:2.0
PRODID:-//Sabre//Sabre VObject 4.5.8//EN
CALSCALE:GREGORIAN
BEGIN:VEVENT
UID:sabre-vobject-cef81acf-e403-4c8b-ab09-139e7c87e751
DTSTAMP:20260421T164343Z
SUMMARY:Summer Reading Program Story Time
DESCRIPTION:Enjoy a Spy and detective themed story time.\n
X-ALT-DESC:FMTTYPE=text/html:<!DOCTYPE HTML PUBLIC "-//W3C//DTD HTML 3.2//E
 N"><HTML><p>Enjoy a Spy and detective themed story time.</p>\n</HTML>
CREATED;TZID=Europe/Oslo:20200302T124256
URL;VALUE=URI:https://stuttgart.armymwr.com/calendar/event
DTSTART;TZID=Europe/Oslo:20190603T103000
DTEND;TZID=Europe/Oslo:20190603T113000
SEQUENCE:0
END:VEVENT
END:VCALENDAR
