BEGIN:VCALENDAR
VERSION:2.0
PRODID:-//Sabre//Sabre VObject 4.5.8//EN
CALSCALE:GREGORIAN
BEGIN:VEVENT
UID:sabre-vobject-ae599d92-92bd-47d2-8640-e0af851baf70
DTSTAMP:20260423T115935Z
SUMMARY:Heidelberg
DESCRIPTION:Check out one of the most romantic cities in Germany?&nbsp\;\n
X-ALT-DESC:FMTTYPE=text/html:<!DOCTYPE HTML PUBLIC "-//W3C//DTD HTML 3.2//E
 N"><HTML><p>Check out one of the most romantic cities in Germany?&nbsp\;</
 p>\n</HTML>
CREATED;TZID=Europe/Oslo:20200108T153634
URL;VALUE=URI:https://stuttgart.armymwr.com/calendar/event
DTSTART;TZID=Europe/Oslo:20190411T070000
DTEND;TZID=Europe/Oslo:20190411T181500
SEQUENCE:0
END:VEVENT
END:VCALENDAR
