BEGIN:VCALENDAR
VERSION:2.0
PRODID:-//Sabre//Sabre VObject 4.5.8//EN
CALSCALE:GREGORIAN
BEGIN:VEVENT
UID:sabre-vobject-ea304b05-d724-4a03-be32-6af1d56d68d0
DTSTAMP:20260422T143552Z
SUMMARY:English as a Second Language
DESCRIPTION:Learn the English language with other foreign born spouses.\n
X-ALT-DESC:FMTTYPE=text/html:<!DOCTYPE HTML PUBLIC "-//W3C//DTD HTML 3.2//E
 N"><HTML><p>Learn the English language with other foreign born spouses.</p
 >\n</HTML>
CREATED;TZID=Europe/Oslo:20190521T164456
URL;VALUE=URI:https://stuttgart.armymwr.com/calendar/event
DTSTART;TZID=Europe/Oslo:20170703T090000
DTEND;TZID=Europe/Oslo:20170703T110000
SEQUENCE:0
END:VEVENT
END:VCALENDAR
