BEGIN:VCALENDAR
VERSION:2.0
PRODID:-//Sabre//Sabre VObject 4.5.8//EN
CALSCALE:GREGORIAN
BEGIN:VEVENT
UID:sabre-vobject-1cd1ff23-3a53-4588-b0da-72d74ca6bccf
DTSTAMP:20260420T000001Z
SUMMARY:BOSS Trip to Comic Con
DESCRIPTION:
X-ALT-DESC:FMTTYPE=text/html:<!DOCTYPE HTML PUBLIC "-//W3C//DTD HTML 3.2//E
 N"><HTML></HTML>
CREATED;TZID=Europe/Oslo:20190524T160036
URL;VALUE=URI:https://stuttgart.armymwr.com/calendar/event
DTSTART;TZID=Europe/Oslo:20190629T140000
DTEND;TZID=Europe/Oslo:20190629T150000
SEQUENCE:0
END:VEVENT
END:VCALENDAR
