BEGIN:VCALENDAR
VERSION:2.0
PRODID:-//Sabre//Sabre VObject 4.5.8//EN
CALSCALE:GREGORIAN
BEGIN:VEVENT
UID:sabre-vobject-d964009c-1860-4db1-ad66-a9f4049cfa5f
DTSTAMP:20260421T034145Z
SUMMARY:Burrito Sale
DESCRIPTION:
X-ALT-DESC:FMTTYPE=text/html:<!DOCTYPE HTML PUBLIC "-//W3C//DTD HTML 3.2//E
 N"><HTML></HTML>
CREATED;TZID=Europe/Oslo:20190523T115248
URL;VALUE=URI:https://stuttgart.armymwr.com/calendar/event
DTSTART;TZID=Europe/Oslo:20190612T063000
DTEND;TZID=Europe/Oslo:20190612T083000
SEQUENCE:0
END:VEVENT
END:VCALENDAR
