BEGIN:VCALENDAR
VERSION:2.0
PRODID:-//Sabre//Sabre VObject 4.5.8//EN
CALSCALE:GREGORIAN
BEGIN:VEVENT
UID:sabre-vobject-81d48e9d-df76-40e4-8b61-23308ebd4f03
DTSTAMP:20260421T132742Z
SUMMARY:BOSS Ceramic Paint Night
DESCRIPTION:Do a little painting with BOSS\n
X-ALT-DESC:FMTTYPE=text/html:<!DOCTYPE HTML PUBLIC "-//W3C//DTD HTML 3.2//E
 N"><HTML><p>Do a little painting with BOSS</p>\n</HTML>
CREATED;TZID=Europe/Oslo:20190514T123914
URL;VALUE=URI:https://stuttgart.armymwr.com/calendar/event
DTSTART;TZID=Europe/Oslo:20190605T180000
DTEND;TZID=Europe/Oslo:20190605T190000
SEQUENCE:0
END:VEVENT
END:VCALENDAR
