BEGIN:VCALENDAR
VERSION:2.0
PRODID:-//Sabre//Sabre VObject 4.5.8//EN
CALSCALE:GREGORIAN
BEGIN:VEVENT
UID:sabre-vobject-d2f06563-28c5-44b7-8ab7-613e8cf6c6fd
DTSTAMP:20260422T133229Z
SUMMARY:EFMP Family Yoga Part 2
DESCRIPTION:Special EFMP Yoga Class especially for family members with Auti
 sm and/or ADD/ADHD!\n
X-ALT-DESC:FMTTYPE=text/html:<!DOCTYPE HTML PUBLIC "-//W3C//DTD HTML 3.2//E
 N"><HTML><p>Special EFMP Yoga Class especially for family members with Aut
 ism and/or ADD/ADHD!</p>\n</HTML>
CREATED;TZID=Europe/Oslo:20190521T170426
URL;VALUE=URI:https://stuttgart.armymwr.com/calendar/event
DTSTART;TZID=Europe/Oslo:20190518T100000
DTEND;TZID=Europe/Oslo:20190518T113000
SEQUENCE:0
END:VEVENT
END:VCALENDAR
