BEGIN:VCALENDAR
VERSION:2.0
PRODID:-//Sabre//Sabre VObject 4.5.8//EN
CALSCALE:GREGORIAN
BEGIN:VEVENT
UID:sabre-vobject-7b53e37e-ba1f-4065-bb47-ec4fb1d5b9fb
DTSTAMP:20260421T203108Z
SUMMARY:Veterans Affairs Overseas Claims Clinic
DESCRIPTION:VA Representatives on site to assist you!\n
X-ALT-DESC:FMTTYPE=text/html:<!DOCTYPE HTML PUBLIC "-//W3C//DTD HTML 3.2//E
 N"><HTML><p>VA Representatives on site to assist you!</p>\n</HTML>
CREATED;TZID=Europe/Oslo:20190521T123904
URL;VALUE=URI:https://stuttgart.armymwr.com/calendar/event
DTSTART;TZID=Europe/Oslo:20190522T080000
DTEND;TZID=Europe/Oslo:20190522T170000
SEQUENCE:0
END:VEVENT
BEGIN:VEVENT
UID:sabre-vobject-fc79208a-7d04-40e6-bca8-9c72bdb85fcd
DTSTAMP:20260421T203108Z
SUMMARY:Veterans Affairs Overseas Claims Clinic
DESCRIPTION:VA Representatives on site to assist you!\n
X-ALT-DESC:FMTTYPE=text/html:<!DOCTYPE HTML PUBLIC "-//W3C//DTD HTML 3.2//E
 N"><HTML><p>VA Representatives on site to assist you!</p>\n</HTML>
CREATED;TZID=Europe/Oslo:20190521T123904
URL;VALUE=URI:https://stuttgart.armymwr.com/calendar/event
DTSTART;TZID=Europe/Oslo:20190523T120000
DTEND;TZID=Europe/Oslo:20190523T170000
SEQUENCE:1
END:VEVENT
END:VCALENDAR
