BEGIN:VCALENDAR
VERSION:2.0
PRODID:-//Sabre//Sabre VObject 4.5.8//EN
CALSCALE:GREGORIAN
BEGIN:VEVENT
UID:sabre-vobject-13e59dd6-b12a-4965-be4d-c4a17c3d4fd2
DTSTAMP:20260423T082223Z
SUMMARY:Eggstravaganza
DESCRIPTION:
X-ALT-DESC:FMTTYPE=text/html:<!DOCTYPE HTML PUBLIC "-//W3C//DTD HTML 3.2//E
 N"><HTML></HTML>
CREATED;TZID=Europe/Oslo:20190409T110959
URL;VALUE=URI:https://stuttgart.armymwr.com/calendar/event
DTSTART;TZID=Europe/Oslo:20190420T100000
DTEND;TZID=Europe/Oslo:20190420T180000
SEQUENCE:0
END:VEVENT
END:VCALENDAR
