BEGIN:VCALENDAR
VERSION:2.0
PRODID:-//Sabre//Sabre VObject 4.5.8//EN
CALSCALE:GREGORIAN
BEGIN:VEVENT
UID:sabre-vobject-1fef287b-d55c-446e-b39c-0e1d44186982
DTSTAMP:20260423T130430Z
SUMMARY:Neuschwanstein Castle
DESCRIPTION:
X-ALT-DESC:FMTTYPE=text/html:<!DOCTYPE HTML PUBLIC "-//W3C//DTD HTML 3.2//E
 N"><HTML></HTML>
CREATED;TZID=Europe/Oslo:20190409T110734
URL;VALUE=URI:https://stuttgart.armymwr.com/calendar/event
DTSTART;TZID=Europe/Oslo:20190413T070000
DTEND;TZID=Europe/Oslo:20190413T150000
SEQUENCE:0
END:VEVENT
END:VCALENDAR
