BEGIN:VCALENDAR
VERSION:2.0
PRODID:-//Sabre//Sabre VObject 4.5.8//EN
CALSCALE:GREGORIAN
BEGIN:VEVENT
UID:sabre-vobject-ff37c942-180f-4592-8e18-9bc47f906b00
DTSTAMP:20260421T034146Z
SUMMARY:Mindfulness and Grounding Class
DESCRIPTION:Do you wish you could find some inner balance? This class may b
 e just what you need!\n
X-ALT-DESC:FMTTYPE=text/html:<!DOCTYPE HTML PUBLIC "-//W3C//DTD HTML 3.2//E
 N"><HTML><p>Do you wish you could find some inner balance? This class may 
 be just what you need!</p>\n</HTML>
CREATED;TZID=Europe/Oslo:20190320T155716
URL;VALUE=URI:https://stuttgart.armymwr.com/calendar/event
DTSTART;TZID=Europe/Oslo:20190612T113000
DTEND;TZID=Europe/Oslo:20190612T130000
SEQUENCE:0
END:VEVENT
END:VCALENDAR
