BEGIN:VCALENDAR
VERSION:2.0
PRODID:-//Sabre//Sabre VObject 4.5.8//EN
CALSCALE:GREGORIAN
BEGIN:VEVENT
UID:sabre-vobject-ec41033c-fff8-4315-a7d9-4b3c8da31564
DTSTAMP:20260422T204817Z
SUMMARY:Cinco de Mayo Celebration
DESCRIPTION:Celebrate Latin heritage at the PCC\n
X-ALT-DESC:FMTTYPE=text/html:<!DOCTYPE HTML PUBLIC "-//W3C//DTD HTML 3.2//E
 N"><HTML><p>Celebrate Latin heritage at the PCC</p>\n</HTML>
CREATED;TZID=Europe/Oslo:20190318T120353
URL;VALUE=URI:https://stuttgart.armymwr.com/calendar/event
DTSTART;TZID=Europe/Oslo:20190504T180000
DTEND;TZID=Europe/Oslo:20190504T010000
SEQUENCE:0
END:VEVENT
END:VCALENDAR
