BEGIN:VCALENDAR
VERSION:2.0
PRODID:-//Sabre//Sabre VObject 4.5.8//EN
CALSCALE:GREGORIAN
BEGIN:VEVENT
UID:sabre-vobject-8dc5e754-01d6-468c-a43d-74c1330492c4
DTSTAMP:20260420T051716Z
SUMMARY:Glider Rides
DESCRIPTION:A scenic glider ride over the Swabian Alb!\n
X-ALT-DESC:FMTTYPE=text/html:<!DOCTYPE HTML PUBLIC "-//W3C//DTD HTML 3.2//E
 N"><HTML><p>A scenic glider ride over the Swabian Alb!</p>\n</HTML>
CREATED;TZID=Europe/Oslo:20190513T165343
URL;VALUE=URI:https://stuttgart.armymwr.com/calendar/event
DTSTART;TZID=Europe/Oslo:20190629T093000
DTEND;TZID=Europe/Oslo:20190629T103000
SEQUENCE:0
END:VEVENT
END:VCALENDAR
