BEGIN:VCALENDAR
VERSION:2.0
PRODID:-//Sabre//Sabre VObject 4.5.8//EN
CALSCALE:GREGORIAN
BEGIN:VEVENT
UID:sabre-vobject-e761fa43-a3d8-43b4-af5d-660808e161fd
DTSTAMP:20260422T132619Z
SUMMARY:EFMP Family Yoga Part 1
DESCRIPTION:Special EFMP Yoga Class especially for family members with Auti
 sm and/or ADD/ADHD!\n
X-ALT-DESC:FMTTYPE=text/html:<!DOCTYPE HTML PUBLIC "-//W3C//DTD HTML 3.2//E
 N"><HTML><p>Special EFMP Yoga Class especially for family members with Aut
 ism and/or ADD/ADHD!</p>\n</HTML>
CREATED;TZID=Europe/Oslo:20190521T170350
URL;VALUE=URI:https://stuttgart.armymwr.com/calendar/event
DTSTART;TZID=Europe/Oslo:20190514T180000
DTEND;TZID=Europe/Oslo:20190514T193000
SEQUENCE:0
END:VEVENT
END:VCALENDAR
