BEGIN:VCALENDAR
VERSION:2.0
PRODID:-//Sabre//Sabre VObject 4.5.8//EN
CALSCALE:GREGORIAN
BEGIN:VEVENT
UID:sabre-vobject-7883013a-b4d6-4741-8cf7-7d5b00fe17e0
DTSTAMP:20260419T165604Z
SUMMARY:Burgundy Wine Bike Tour
DESCRIPTION:
X-ALT-DESC:FMTTYPE=text/html:<!DOCTYPE HTML PUBLIC "-//W3C//DTD HTML 3.2//E
 N"><HTML></HTML>
CREATED;TZID=Europe/Oslo:20190228T125440
URL;VALUE=URI:https://stuttgart.armymwr.com/calendar/event
DTSTART;TZID=Europe/Oslo:20190629T123000
DTEND;TZID=Europe/Oslo:20190629T133000
SEQUENCE:0
END:VEVENT
END:VCALENDAR
