BEGIN:VCALENDAR
VERSION:2.0
PRODID:-//Sabre//Sabre VObject 4.5.8//EN
CALSCALE:GREGORIAN
BEGIN:VEVENT
UID:sabre-vobject-7bd8ac1c-8e2e-44ff-821d-eec6d0adbc3c
DTSTAMP:20260421T132743Z
SUMMARY:Saturday Gymnastics/Ninja Gym Camp
DESCRIPTION:Join the CYS SKIES Gymnastics class with Leslie.\n
X-ALT-DESC:FMTTYPE=text/html:<!DOCTYPE HTML PUBLIC "-//W3C//DTD HTML 3.2//E
 N"><HTML><p>Join the CYS SKIES Gymnastics class with Leslie.</p>\n</HTML>
CREATED;TZID=Europe/Oslo:20190425T091532
URL;VALUE=URI:https://stuttgart.armymwr.com/calendar/event
DTSTART;TZID=Europe/Oslo:20190223T090000
DTEND;TZID=Europe/Oslo:20190223T140000
SEQUENCE:0
END:VEVENT
BEGIN:VEVENT
UID:sabre-vobject-c63dcd4d-ea1e-4d7d-889b-5f05e3aa5230
DTSTAMP:20260421T132743Z
SUMMARY:Saturday Gymnastics/Ninja Gym Camp
DESCRIPTION:Join the CYS SKIES Gymnastics class with Leslie.\n
X-ALT-DESC:FMTTYPE=text/html:<!DOCTYPE HTML PUBLIC "-//W3C//DTD HTML 3.2//E
 N"><HTML><p>Join the CYS SKIES Gymnastics class with Leslie.</p>\n</HTML>
CREATED;TZID=Europe/Oslo:20190425T091532
URL;VALUE=URI:https://stuttgart.armymwr.com/calendar/event
DTSTART;TZID=Europe/Oslo:20190309T113000
DTEND;TZID=Europe/Oslo:20190309T123000
SEQUENCE:1
END:VEVENT
BEGIN:VEVENT
UID:sabre-vobject-492a067f-917e-4af6-893c-be14b35419dd
DTSTAMP:20260421T132743Z
SUMMARY:Saturday Gymnastics/Ninja Gym Camp
DESCRIPTION:Join the CYS SKIES Gymnastics class with Leslie.\n
X-ALT-DESC:FMTTYPE=text/html:<!DOCTYPE HTML PUBLIC "-//W3C//DTD HTML 3.2//E
 N"><HTML><p>Join the CYS SKIES Gymnastics class with Leslie.</p>\n</HTML>
CREATED;TZID=Europe/Oslo:20190425T091532
URL;VALUE=URI:https://stuttgart.armymwr.com/calendar/event
DTSTART;TZID=Europe/Oslo:20190330T113000
DTEND;TZID=Europe/Oslo:20190330T123000
SEQUENCE:2
END:VEVENT
BEGIN:VEVENT
UID:sabre-vobject-fb8a8170-886c-49a4-a139-443377f5f567
DTSTAMP:20260421T132743Z
SUMMARY:Saturday Gymnastics/Ninja Gym Camp
DESCRIPTION:Join the CYS SKIES Gymnastics class with Leslie.\n
X-ALT-DESC:FMTTYPE=text/html:<!DOCTYPE HTML PUBLIC "-//W3C//DTD HTML 3.2//E
 N"><HTML><p>Join the CYS SKIES Gymnastics class with Leslie.</p>\n</HTML>
CREATED;TZID=Europe/Oslo:20190425T091532
URL;VALUE=URI:https://stuttgart.armymwr.com/calendar/event
DTSTART;TZID=Europe/Oslo:20190511T113000
DTEND;TZID=Europe/Oslo:20190511T123000
SEQUENCE:3
END:VEVENT
BEGIN:VEVENT
UID:sabre-vobject-a16cd642-51a2-410d-a8af-49d9f629ca26
DTSTAMP:20260421T132743Z
SUMMARY:Saturday Gymnastics/Ninja Gym Camp
DESCRIPTION:Join the CYS SKIES Gymnastics class with Leslie.\n
X-ALT-DESC:FMTTYPE=text/html:<!DOCTYPE HTML PUBLIC "-//W3C//DTD HTML 3.2//E
 N"><HTML><p>Join the CYS SKIES Gymnastics class with Leslie.</p>\n</HTML>
CREATED;TZID=Europe/Oslo:20190425T091532
URL;VALUE=URI:https://stuttgart.armymwr.com/calendar/event
DTSTART;TZID=Europe/Oslo:20190608T120000
DTEND;TZID=Europe/Oslo:20190608T130000
SEQUENCE:4
END:VEVENT
END:VCALENDAR
