BEGIN:VCALENDAR
VERSION:2.0
PRODID:-//Sabre//Sabre VObject 4.5.8//EN
CALSCALE:GREGORIAN
BEGIN:VEVENT
UID:sabre-vobject-650c78c4-0c1d-42a6-a241-0f568eb23652
DTSTAMP:20260423T160621Z
SUMMARY:Anger Management
DESCRIPTION:A workshop designed to help you control anger before anger cont
 rols you!\n
X-ALT-DESC:FMTTYPE=text/html:<!DOCTYPE HTML PUBLIC "-//W3C//DTD HTML 3.2//E
 N"><HTML><p>A workshop designed to help you control anger before anger con
 trols you!</p>\n</HTML>
CREATED;TZID=Europe/Oslo:20190204T122019
URL;VALUE=URI:https://stuttgart.armymwr.com/calendar/event
DTSTART;TZID=Europe/Oslo:20190410T113000
DTEND;TZID=Europe/Oslo:20190410T130000
SEQUENCE:0
END:VEVENT
END:VCALENDAR
