BEGIN:VCALENDAR
VERSION:2.0
PRODID:-//Sabre//Sabre VObject 4.5.8//EN
CALSCALE:GREGORIAN
BEGIN:VEVENT
UID:sabre-vobject-47b0455c-8a73-418a-ade2-fdebd88a377f
DTSTAMP:20260423T065326Z
SUMMARY:CYS Spring Fest
DESCRIPTION:Celebrate the military child in your life\n
X-ALT-DESC:FMTTYPE=text/html:<!DOCTYPE HTML PUBLIC "-//W3C//DTD HTML 3.2//E
 N"><HTML><p>Celebrate the military child in your life</p>\n</HTML>
CREATED;TZID=Europe/Oslo:20190404T122606
URL;VALUE=URI:https://stuttgart.armymwr.com/calendar/event
DTSTART;TZID=Europe/Oslo:20190427T100000
DTEND;TZID=Europe/Oslo:20190427T140000
SEQUENCE:0
END:VEVENT
END:VCALENDAR
