BEGIN:VCALENDAR
VERSION:2.0
PRODID:-//Sabre//Sabre VObject 4.5.8//EN
CALSCALE:GREGORIAN
BEGIN:VEVENT
UID:sabre-vobject-ba77c65e-b3a2-40d4-b311-1cd444cb8d11
DTSTAMP:20260422T205937Z
SUMMARY:Youth Photography Expo Prizes Awarded
DESCRIPTION:
X-ALT-DESC:FMTTYPE=text/html:<!DOCTYPE HTML PUBLIC "-//W3C//DTD HTML 3.2//E
 N"><HTML></HTML>
CREATED;TZID=Europe/Oslo:20190128T094601
URL;VALUE=URI:https://stuttgart.armymwr.com/calendar/event
DTSTART;TZID=Europe/Oslo:20190427T110000
DTEND;TZID=Europe/Oslo:20190427T120000
SEQUENCE:0
END:VEVENT
END:VCALENDAR
