BEGIN:VCALENDAR
VERSION:2.0
PRODID:-//Sabre//Sabre VObject 4.5.8//EN
CALSCALE:GREGORIAN
BEGIN:VEVENT
UID:sabre-vobject-3a8fc459-ede1-432f-b8d7-b73f75207e7b
DTSTAMP:20260423T202754Z
SUMMARY:Youth Photo Expo
DESCRIPTION:Celebrating our talented youth during the Month of the Military
  Child\n
X-ALT-DESC:FMTTYPE=text/html:<!DOCTYPE HTML PUBLIC "-//W3C//DTD HTML 3.2//E
 N"><HTML><p>Celebrating our talented youth during the Month of the Militar
 y Child</p>\n</HTML>
CREATED;TZID=Europe/Oslo:20190404T122420
URL;VALUE=URI:https://stuttgart.armymwr.com/calendar/event
DTSTART;TZID=Europe/Oslo:20190401T000000
DTEND;TZID=Europe/Oslo:20190426T235959
SEQUENCE:0
END:VEVENT
END:VCALENDAR
