BEGIN:VCALENDAR
VERSION:2.0
PRODID:-//Sabre//Sabre VObject 4.5.8//EN
CALSCALE:GREGORIAN
BEGIN:VEVENT
UID:sabre-vobject-12ebdc42-c3ed-4606-87f1-89eecb0bf13d
DTSTAMP:20260422T132617Z
SUMMARY:Salzburg Sound of Music Bike Tour
DESCRIPTION:
X-ALT-DESC:FMTTYPE=text/html:<!DOCTYPE HTML PUBLIC "-//W3C//DTD HTML 3.2//E
 N"><HTML></HTML>
CREATED;TZID=Europe/Oslo:20190118T125031
URL;VALUE=URI:https://stuttgart.armymwr.com/calendar/event
DTSTART;TZID=Europe/Oslo:20190511T123000
DTEND;TZID=Europe/Oslo:20190511T133000
SEQUENCE:0
END:VEVENT
END:VCALENDAR
