BEGIN:VCALENDAR
VERSION:2.0
PRODID:-//Sabre//Sabre VObject 4.5.8//EN
CALSCALE:GREGORIAN
BEGIN:VEVENT
UID:sabre-vobject-7b716319-ffd4-40ef-9186-bd1f0f024084
DTSTAMP:20260422T204834Z
SUMMARY:Prague for a Day
DESCRIPTION:Take a day getaway to Prague.\n
X-ALT-DESC:FMTTYPE=text/html:<!DOCTYPE HTML PUBLIC "-//W3C//DTD HTML 3.2//E
 N"><HTML><p>Take a day getaway to Prague.</p>\n</HTML>
CREATED;TZID=Europe/Oslo:20190305T111424
URL;VALUE=URI:https://stuttgart.armymwr.com/calendar/event
DTSTART;TZID=Europe/Oslo:20190504T150000
DTEND;TZID=Europe/Oslo:20190504T160000
SEQUENCE:0
END:VEVENT
END:VCALENDAR
