BEGIN:VCALENDAR
VERSION:2.0
PRODID:-//Sabre//Sabre VObject 4.5.8//EN
CALSCALE:GREGORIAN
BEGIN:VEVENT
UID:sabre-vobject-f744edc0-0a9a-4131-b0fd-a7721ad13cee
DTSTAMP:20260422T131504Z
SUMMARY:Stuffed Animal Sleepover
DESCRIPTION:
X-ALT-DESC:FMTTYPE=text/html:<!DOCTYPE HTML PUBLIC "-//W3C//DTD HTML 3.2//E
 N"><HTML></HTML>
CREATED;TZID=Europe/Oslo:20190118T151506
URL;VALUE=URI:https://stuttgart.armymwr.com/calendar/event
DTSTART;TZID=Europe/Oslo:20190518T170000
DTEND;TZID=Europe/Oslo:20190518T180000
SEQUENCE:0
END:VEVENT
END:VCALENDAR
