BEGIN:VCALENDAR
VERSION:2.0
PRODID:-//Sabre//Sabre VObject 4.5.8//EN
CALSCALE:GREGORIAN
BEGIN:VEVENT
UID:sabre-vobject-f1f98b22-ae0e-488c-8085-9525fbb56867
DTSTAMP:20260423T065329Z
SUMMARY:A Day of Castles 
DESCRIPTION:Visit beautiful castles with MWR Tours.\n
X-ALT-DESC:FMTTYPE=text/html:<!DOCTYPE HTML PUBLIC "-//W3C//DTD HTML 3.2//E
 N"><HTML><p>Visit beautiful castles with MWR Tours.</p>\n</HTML>
CREATED;TZID=Europe/Oslo:20190305T111202
URL;VALUE=URI:https://stuttgart.armymwr.com/calendar/event
DTSTART;TZID=Europe/Oslo:20190420T000000
DTEND;TZID=Europe/Oslo:20190420T235959
SEQUENCE:0
END:VEVENT
END:VCALENDAR
