BEGIN:VCALENDAR
VERSION:2.0
PRODID:-//Sabre//Sabre VObject 4.5.8//EN
CALSCALE:GREGORIAN
BEGIN:VEVENT
UID:sabre-vobject-d304ea13-7b51-4dc5-8657-99b8b695c4b2
DTSTAMP:20260423T065328Z
SUMMARY:SHARP Victim Advocate Workshop
DESCRIPTION:
X-ALT-DESC:FMTTYPE=text/html:<!DOCTYPE HTML PUBLIC "-//W3C//DTD HTML 3.2//E
 N"><HTML></HTML>
CREATED;TZID=Europe/Oslo:20190311T112146
URL;VALUE=URI:https://stuttgart.armymwr.com/calendar/event
DTSTART;TZID=Europe/Oslo:20190422T090000
DTEND;TZID=Europe/Oslo:20190424T163000
SEQUENCE:0
END:VEVENT
END:VCALENDAR
