BEGIN:VCALENDAR
VERSION:2.0
PRODID:-//Sabre//Sabre VObject 4.5.8//EN
CALSCALE:GREGORIAN
BEGIN:VEVENT
UID:sabre-vobject-60aeacea-7587-4ef9-befc-c9b7a47aa772
DTSTAMP:20260425T035350Z
SUMMARY:Kids' Photography Workshop: Action and Special Effects
DESCRIPTION:
X-ALT-DESC:FMTTYPE=text/html:<!DOCTYPE HTML PUBLIC "-//W3C//DTD HTML 3.2//E
 N"><HTML></HTML>
CREATED;TZID=Europe/Oslo:20190103T142740
URL;VALUE=URI:https://stuttgart.armymwr.com/calendar/event
DTSTART;TZID=Europe/Oslo:20190321T153000
DTEND;TZID=Europe/Oslo:20190321T170000
SEQUENCE:0
END:VEVENT
END:VCALENDAR
