BEGIN:VCALENDAR
VERSION:2.0
PRODID:-//Sabre//Sabre VObject 4.5.8//EN
CALSCALE:GREGORIAN
BEGIN:VEVENT
UID:sabre-vobject-8f188950-6a73-4240-8b55-6a605256e771
DTSTAMP:20260422T131547Z
SUMMARY:RB Strong Beginnings Graduation Ceremony 
DESCRIPTION:Congratulations to the 2019 graduating class\n
X-ALT-DESC:FMTTYPE=text/html:<!DOCTYPE HTML PUBLIC "-//W3C//DTD HTML 3.2//E
 N"><HTML><p>Congratulations to the 2019 graduating class</p>\n</HTML>
CREATED;TZID=Europe/Oslo:20180918T100520
URL;VALUE=URI:https://stuttgart.armymwr.com/calendar/event
DTSTART;TZID=Europe/Oslo:20190517T110000
DTEND;TZID=Europe/Oslo:20190517T120000
SEQUENCE:0
END:VEVENT
END:VCALENDAR
