BEGIN:VCALENDAR
VERSION:2.0
PRODID:-//Sabre//Sabre VObject 4.5.8//EN
CALSCALE:GREGORIAN
BEGIN:VEVENT
UID:sabre-vobject-bca96679-3c84-4bc5-a8cf-76d0e92acd18
DTSTAMP:20260424T062543Z
SUMMARY:RB SAC Egg Hunt
DESCRIPTION:Celebrate easter with an fun egg hunt\n
X-ALT-DESC:FMTTYPE=text/html:<!DOCTYPE HTML PUBLIC "-//W3C//DTD HTML 3.2//E
 N"><HTML><p>Celebrate easter with an fun egg hunt</p>\n</HTML>
CREATED;TZID=Europe/Oslo:20180918T091253
URL;VALUE=URI:https://stuttgart.armymwr.com/calendar/event
DTSTART;TZID=Europe/Oslo:20190329T160000
DTEND;TZID=Europe/Oslo:20190329T170000
SEQUENCE:0
END:VEVENT
END:VCALENDAR
