BEGIN:VCALENDAR
VERSION:2.0
PRODID:-//Sabre//Sabre VObject 4.5.8//EN
CALSCALE:GREGORIAN
BEGIN:VEVENT
UID:sabre-vobject-66b0a5e7-347f-402e-b3a0-f7092cb61653
DTSTAMP:20260423T202756Z
SUMMARY:Ski/Snowboard trip to Soelden\, Austria
DESCRIPTION:
X-ALT-DESC:FMTTYPE=text/html:<!DOCTYPE HTML PUBLIC "-//W3C//DTD HTML 3.2//E
 N"><HTML></HTML>
CREATED;TZID=Europe/Oslo:20181015T090134
URL;VALUE=URI:https://stuttgart.armymwr.com/calendar/event
DTSTART;TZID=Europe/Oslo:20190330T000000
DTEND;TZID=Europe/Oslo:20190330T235959
SEQUENCE:0
END:VEVENT
END:VCALENDAR
