BEGIN:VCALENDAR
VERSION:2.0
PRODID:-//Sabre//Sabre VObject 4.5.8//EN
CALSCALE:GREGORIAN
BEGIN:VEVENT
UID:sabre-vobject-aba19433-314f-4aa0-acdf-c5ee240653c0
DTSTAMP:20260423T065334Z
SUMMARY:Operation Megaphone (OMP) Lock-In (Grades 6 - 8) 
DESCRIPTION:Be a part of the annual world wide OMP\n
X-ALT-DESC:FMTTYPE=text/html:<!DOCTYPE HTML PUBLIC "-//W3C//DTD HTML 3.2//E
 N"><HTML><p>Be a part of the annual world wide<strong> OMP</strong></p>\n<
 /HTML>
CREATED;TZID=Europe/Oslo:20180827T163745
URL;VALUE=URI:https://stuttgart.armymwr.com/calendar/event
DTSTART;TZID=Europe/Oslo:20190426T220000
DTEND;TZID=Europe/Oslo:20190426T073000
SEQUENCE:0
END:VEVENT
END:VCALENDAR
