BEGIN:VCALENDAR
VERSION:2.0
PRODID:-//Sabre//Sabre VObject 4.5.8//EN
CALSCALE:GREGORIAN
BEGIN:VEVENT
UID:sabre-vobject-37156483-e59d-4fb0-bfd3-6acb49a4743a
DTSTAMP:20260420T100755Z
SUMMARY:MAMMA MIA! Performance
DESCRIPTION:Come see the show that took the world by storm! ABBA forever!\n
X-ALT-DESC:FMTTYPE=text/html:<!DOCTYPE HTML PUBLIC "-//W3C//DTD HTML 3.2//E
 N"><HTML><p>Come see the show that took the world by storm! ABBA forever!<
 /p>\n</HTML>
CREATED;TZID=Europe/Oslo:20190405T160945
URL;VALUE=URI:https://stuttgart.armymwr.com/calendar/event
DTSTART;TZID=Europe/Oslo:20190531T193000
DTEND;TZID=Europe/Oslo:20190531T203000
SEQUENCE:0
END:VEVENT
BEGIN:VEVENT
UID:sabre-vobject-bac7d823-fb72-44e7-ba31-0a2550f1f3dd
DTSTAMP:20260420T100755Z
SUMMARY:MAMMA MIA! Performance
DESCRIPTION:Come see the show that took the world by storm! ABBA forever!\n
X-ALT-DESC:FMTTYPE=text/html:<!DOCTYPE HTML PUBLIC "-//W3C//DTD HTML 3.2//E
 N"><HTML><p>Come see the show that took the world by storm! ABBA forever!<
 /p>\n</HTML>
CREATED;TZID=Europe/Oslo:20190405T160945
URL;VALUE=URI:https://stuttgart.armymwr.com/calendar/event
DTSTART;TZID=Europe/Oslo:20190601T193000
DTEND;TZID=Europe/Oslo:20190601T203000
SEQUENCE:1
END:VEVENT
BEGIN:VEVENT
UID:sabre-vobject-27825394-816d-4919-995d-76bd3461a2b8
DTSTAMP:20260420T100755Z
SUMMARY:MAMMA MIA! Performance
DESCRIPTION:Come see the show that took the world by storm! ABBA forever!\n
X-ALT-DESC:FMTTYPE=text/html:<!DOCTYPE HTML PUBLIC "-//W3C//DTD HTML 3.2//E
 N"><HTML><p>Come see the show that took the world by storm! ABBA forever!<
 /p>\n</HTML>
CREATED;TZID=Europe/Oslo:20190405T160945
URL;VALUE=URI:https://stuttgart.armymwr.com/calendar/event
DTSTART;TZID=Europe/Oslo:20190602T150000
DTEND;TZID=Europe/Oslo:20190602T160000
SEQUENCE:2
END:VEVENT
BEGIN:VEVENT
UID:sabre-vobject-269934f7-9876-497f-97e5-06c1bb6e6bb1
DTSTAMP:20260420T100755Z
SUMMARY:MAMMA MIA! Performance
DESCRIPTION:Come see the show that took the world by storm! ABBA forever!\n
X-ALT-DESC:FMTTYPE=text/html:<!DOCTYPE HTML PUBLIC "-//W3C//DTD HTML 3.2//E
 N"><HTML><p>Come see the show that took the world by storm! ABBA forever!<
 /p>\n</HTML>
CREATED;TZID=Europe/Oslo:20190405T160945
URL;VALUE=URI:https://stuttgart.armymwr.com/calendar/event
DTSTART;TZID=Europe/Oslo:20190607T193000
DTEND;TZID=Europe/Oslo:20190607T203000
SEQUENCE:3
END:VEVENT
BEGIN:VEVENT
UID:sabre-vobject-41a5ab39-defe-4837-8295-7386af1b1066
DTSTAMP:20260420T100755Z
SUMMARY:MAMMA MIA! Performance
DESCRIPTION:Come see the show that took the world by storm! ABBA forever!\n
X-ALT-DESC:FMTTYPE=text/html:<!DOCTYPE HTML PUBLIC "-//W3C//DTD HTML 3.2//E
 N"><HTML><p>Come see the show that took the world by storm! ABBA forever!<
 /p>\n</HTML>
CREATED;TZID=Europe/Oslo:20190405T160945
URL;VALUE=URI:https://stuttgart.armymwr.com/calendar/event
DTSTART;TZID=Europe/Oslo:20190608T193000
DTEND;TZID=Europe/Oslo:20190608T203000
SEQUENCE:4
END:VEVENT
BEGIN:VEVENT
UID:sabre-vobject-125251eb-c5c2-4f84-b1a3-65063635d10d
DTSTAMP:20260420T100755Z
SUMMARY:MAMMA MIA! Performance
DESCRIPTION:Come see the show that took the world by storm! ABBA forever!\n
X-ALT-DESC:FMTTYPE=text/html:<!DOCTYPE HTML PUBLIC "-//W3C//DTD HTML 3.2//E
 N"><HTML><p>Come see the show that took the world by storm! ABBA forever!<
 /p>\n</HTML>
CREATED;TZID=Europe/Oslo:20190405T160945
URL;VALUE=URI:https://stuttgart.armymwr.com/calendar/event
DTSTART;TZID=Europe/Oslo:20190609T150000
DTEND;TZID=Europe/Oslo:20190609T160000
SEQUENCE:5
END:VEVENT
BEGIN:VEVENT
UID:sabre-vobject-54c8520a-74c3-4f3b-b28b-070b75fc4e39
DTSTAMP:20260420T100755Z
SUMMARY:MAMMA MIA! Performance
DESCRIPTION:Come see the show that took the world by storm! ABBA forever!\n
X-ALT-DESC:FMTTYPE=text/html:<!DOCTYPE HTML PUBLIC "-//W3C//DTD HTML 3.2//E
 N"><HTML><p>Come see the show that took the world by storm! ABBA forever!<
 /p>\n</HTML>
CREATED;TZID=Europe/Oslo:20190405T160945
URL;VALUE=URI:https://stuttgart.armymwr.com/calendar/event
DTSTART;TZID=Europe/Oslo:20190614T193000
DTEND;TZID=Europe/Oslo:20190614T203000
SEQUENCE:6
END:VEVENT
BEGIN:VEVENT
UID:sabre-vobject-36bf7b7d-d7f3-411a-be51-9c34c040cdb8
DTSTAMP:20260420T100755Z
SUMMARY:MAMMA MIA! Performance
DESCRIPTION:Come see the show that took the world by storm! ABBA forever!\n
X-ALT-DESC:FMTTYPE=text/html:<!DOCTYPE HTML PUBLIC "-//W3C//DTD HTML 3.2//E
 N"><HTML><p>Come see the show that took the world by storm! ABBA forever!<
 /p>\n</HTML>
CREATED;TZID=Europe/Oslo:20190405T160945
URL;VALUE=URI:https://stuttgart.armymwr.com/calendar/event
DTSTART;TZID=Europe/Oslo:20190615T193000
DTEND;TZID=Europe/Oslo:20190615T203000
SEQUENCE:7
END:VEVENT
BEGIN:VEVENT
UID:sabre-vobject-6ad2e9e2-de24-4573-9a56-ce3d7bc9275b
DTSTAMP:20260420T100755Z
SUMMARY:MAMMA MIA! Performance
DESCRIPTION:Come see the show that took the world by storm! ABBA forever!\n
X-ALT-DESC:FMTTYPE=text/html:<!DOCTYPE HTML PUBLIC "-//W3C//DTD HTML 3.2//E
 N"><HTML><p>Come see the show that took the world by storm! ABBA forever!<
 /p>\n</HTML>
CREATED;TZID=Europe/Oslo:20190405T160945
URL;VALUE=URI:https://stuttgart.armymwr.com/calendar/event
DTSTART;TZID=Europe/Oslo:20190616T150000
DTEND;TZID=Europe/Oslo:20190616T160000
SEQUENCE:8
END:VEVENT
END:VCALENDAR
