BEGIN:VCALENDAR
VERSION:2.0
PRODID:-//Sabre//Sabre VObject 4.5.8//EN
CALSCALE:GREGORIAN
BEGIN:VEVENT
UID:sabre-vobject-9d11e419-6c52-442b-9e4c-68f043bd812d
DTSTAMP:20260422T131504Z
SUMMARY:Taking Charge/Budgeting Basics
DESCRIPTION:Chart a course for your financial future!\n
X-ALT-DESC:FMTTYPE=text/html:<!DOCTYPE HTML PUBLIC "-//W3C//DTD HTML 3.2//E
 N"><HTML><p>Chart a course for your financial future!</p>\n</HTML>
CREATED;TZID=Europe/Oslo:20190204T120311
URL;VALUE=URI:https://stuttgart.armymwr.com/calendar/event
DTSTART;TZID=Europe/Oslo:20180620T113000
DTEND;TZID=Europe/Oslo:20180620T123000
SEQUENCE:0
END:VEVENT
BEGIN:VEVENT
UID:sabre-vobject-ecc7787d-0a28-49cc-a6c4-ac7bfa19a0e5
DTSTAMP:20260422T131504Z
SUMMARY:Taking Charge/Budgeting Basics
DESCRIPTION:Chart a course for your financial future!\n
X-ALT-DESC:FMTTYPE=text/html:<!DOCTYPE HTML PUBLIC "-//W3C//DTD HTML 3.2//E
 N"><HTML><p>Chart a course for your financial future!</p>\n</HTML>
CREATED;TZID=Europe/Oslo:20190204T120311
URL;VALUE=URI:https://stuttgart.armymwr.com/calendar/event
DTSTART;TZID=Europe/Oslo:20190522T113000
DTEND;TZID=Europe/Oslo:20190522T123000
SEQUENCE:1
END:VEVENT
END:VCALENDAR
