BEGIN:VCALENDAR
VERSION:2.0
PRODID:-//Sabre//Sabre VObject 4.5.8//EN
CALSCALE:GREGORIAN
BEGIN:VEVENT
UID:sabre-vobject-6063f7d4-0c29-43b2-883e-bf46cb5c56da
DTSTAMP:20260424T184621Z
SUMMARY:How to Work a Job Fair
DESCRIPTION:Find out how to work a job fair like an expert!\n
X-ALT-DESC:FMTTYPE=text/html:<!DOCTYPE HTML PUBLIC "-//W3C//DTD HTML 3.2//E
 N"><HTML><p>Find out how to work a job fair like an expert!</p>\n</HTML>
CREATED;TZID=Europe/Oslo:20190103T145309
URL;VALUE=URI:https://stuttgart.armymwr.com/calendar/event
DTSTART;TZID=Europe/Oslo:20180220T113000
DTEND;TZID=Europe/Oslo:20180220T130000
SEQUENCE:0
END:VEVENT
BEGIN:VEVENT
UID:sabre-vobject-75d2a179-9e16-4f58-941d-cd3aed755bdf
DTSTAMP:20260424T184621Z
SUMMARY:How to Work a Job Fair
DESCRIPTION:Find out how to work a job fair like an expert!\n
X-ALT-DESC:FMTTYPE=text/html:<!DOCTYPE HTML PUBLIC "-//W3C//DTD HTML 3.2//E
 N"><HTML><p>Find out how to work a job fair like an expert!</p>\n</HTML>
CREATED;TZID=Europe/Oslo:20190103T145309
URL;VALUE=URI:https://stuttgart.armymwr.com/calendar/event
DTSTART;TZID=Europe/Oslo:20180320T113000
DTEND;TZID=Europe/Oslo:20180320T130000
SEQUENCE:1
END:VEVENT
BEGIN:VEVENT
UID:sabre-vobject-f810c51c-a3b6-4c7a-a480-3696f91e589a
DTSTAMP:20260424T184621Z
SUMMARY:How to Work a Job Fair
DESCRIPTION:Find out how to work a job fair like an expert!\n
X-ALT-DESC:FMTTYPE=text/html:<!DOCTYPE HTML PUBLIC "-//W3C//DTD HTML 3.2//E
 N"><HTML><p>Find out how to work a job fair like an expert!</p>\n</HTML>
CREATED;TZID=Europe/Oslo:20190103T145309
URL;VALUE=URI:https://stuttgart.armymwr.com/calendar/event
DTSTART;TZID=Europe/Oslo:20190212T113000
DTEND;TZID=Europe/Oslo:20190212T130000
SEQUENCE:2
END:VEVENT
BEGIN:VEVENT
UID:sabre-vobject-cd5e73e9-b068-4a5c-b46f-0ac6f144eef5
DTSTAMP:20260424T184621Z
SUMMARY:How to Work a Job Fair
DESCRIPTION:Find out how to work a job fair like an expert!\n
X-ALT-DESC:FMTTYPE=text/html:<!DOCTYPE HTML PUBLIC "-//W3C//DTD HTML 3.2//E
 N"><HTML><p>Find out how to work a job fair like an expert!</p>\n</HTML>
CREATED;TZID=Europe/Oslo:20190103T145309
URL;VALUE=URI:https://stuttgart.armymwr.com/calendar/event
DTSTART;TZID=Europe/Oslo:20190312T113000
DTEND;TZID=Europe/Oslo:20190312T130000
SEQUENCE:3
END:VEVENT
END:VCALENDAR
